BEGIN:VCALENDAR
VERSION:2.0
PRODID:-//Rockwall County Republican Men&rsquo;s Club - ECPv6.15.20//NONSGML v1.0//EN
CALSCALE:GREGORIAN
METHOD:PUBLISH
X-WR-CALNAME:Rockwall County Republican Men&rsquo;s Club
X-ORIGINAL-URL:https://rockwallmensclub.com
X-WR-CALDESC:Events for Rockwall County Republican Men&rsquo;s Club
REFRESH-INTERVAL;VALUE=DURATION:PT1H
X-Robots-Tag:noindex
X-PUBLISHED-TTL:PT1H
BEGIN:VTIMEZONE
TZID:America/Chicago
BEGIN:DAYLIGHT
TZOFFSETFROM:-0600
TZOFFSETTO:-0500
TZNAME:CDT
DTSTART:20250309T080000
END:DAYLIGHT
BEGIN:STANDARD
TZOFFSETFROM:-0500
TZOFFSETTO:-0600
TZNAME:CST
DTSTART:20251102T070000
END:STANDARD
BEGIN:DAYLIGHT
TZOFFSETFROM:-0600
TZOFFSETTO:-0500
TZNAME:CDT
DTSTART:20260308T080000
END:DAYLIGHT
BEGIN:STANDARD
TZOFFSETFROM:-0500
TZOFFSETTO:-0600
TZNAME:CST
DTSTART:20261101T070000
END:STANDARD
BEGIN:DAYLIGHT
TZOFFSETFROM:-0600
TZOFFSETTO:-0500
TZNAME:CDT
DTSTART:20270314T080000
END:DAYLIGHT
BEGIN:STANDARD
TZOFFSETFROM:-0500
TZOFFSETTO:-0600
TZNAME:CST
DTSTART:20271107T070000
END:STANDARD
END:VTIMEZONE
BEGIN:VEVENT
DTSTART;TZID=America/Chicago:20260214T080000
DTEND;TZID=America/Chicago:20260214T090000
DTSTAMP:20260419T103429
CREATED:20260107T203615Z
LAST-MODIFIED:20260210T211159Z
UID:2025-1771056000-1771059600@rockwallmensclub.com
SUMMARY:February Monthly Meeting - Rockwall County Republican Men's Club
DESCRIPTION:Please join us for our monthly Men’s Club meeting.Our February program will be a candidate forum for the four candidates running for Judge of the County Court at Law # 1. Come and learn more about each of these candidates! \nGrab some coffee and a donut while enjoying fellowship with other local conservatives and getting the latest information about what’s going on in Rockwall County and in our club.Club members\, bring a friend\, and we look forward to seeing you there!
URL:https://rockwallmensclub.com/event/february-monthly-meeting-rockwall-county-republican-mens-club/
LOCATION:The Center\, 108 E Washington St\, Rockwall\, TX\, 75087\, US
ATTACH;FMTTYPE=image/jpeg:https://rockwallmensclub.com/wp-content/uploads/2026/01/2025_image_632109065_1242358391420867_8563281700097976209_n.jpg
END:VEVENT
END:VCALENDAR