BEGIN:VCALENDAR
VERSION:2.0
PRODID:-//Rockwall County Republican Men&rsquo;s Club - ECPv6.15.20//NONSGML v1.0//EN
CALSCALE:GREGORIAN
METHOD:PUBLISH
X-ORIGINAL-URL:https://rockwallmensclub.com
X-WR-CALDESC:Events for Rockwall County Republican Men&rsquo;s Club
REFRESH-INTERVAL;VALUE=DURATION:PT1H
X-Robots-Tag:noindex
X-PUBLISHED-TTL:PT1H
BEGIN:VTIMEZONE
TZID:America/Chicago
BEGIN:DAYLIGHT
TZOFFSETFROM:-0600
TZOFFSETTO:-0500
TZNAME:CDT
DTSTART:20240310T080000
END:DAYLIGHT
BEGIN:STANDARD
TZOFFSETFROM:-0500
TZOFFSETTO:-0600
TZNAME:CST
DTSTART:20241103T070000
END:STANDARD
BEGIN:DAYLIGHT
TZOFFSETFROM:-0600
TZOFFSETTO:-0500
TZNAME:CDT
DTSTART:20250309T080000
END:DAYLIGHT
BEGIN:STANDARD
TZOFFSETFROM:-0500
TZOFFSETTO:-0600
TZNAME:CST
DTSTART:20251102T070000
END:STANDARD
BEGIN:DAYLIGHT
TZOFFSETFROM:-0600
TZOFFSETTO:-0500
TZNAME:CDT
DTSTART:20260308T080000
END:DAYLIGHT
BEGIN:STANDARD
TZOFFSETFROM:-0500
TZOFFSETTO:-0600
TZNAME:CST
DTSTART:20261101T070000
END:STANDARD
END:VTIMEZONE
BEGIN:VEVENT
DTSTART;TZID=America/Chicago:20250605T173000
DTEND;TZID=America/Chicago:20250605T193000
DTSTAMP:20260419T223703
CREATED:20250603T231954Z
LAST-MODIFIED:20250603T231954Z
UID:1167-1749144600-1749151800@rockwallmensclub.com
SUMMARY:Rockwall Republican Men's Club Happy Hour
DESCRIPTION:Join with fellow local conservatives for good discussion and libations at our quarterly happy hour
URL:https://rockwallmensclub.com/event/rockwall-republican-mens-club-happy-hour-3/
LOCATION:Wade’s Landing\, 308 N Fannin Street\, Rockwall\, TX\, 75087\, US
ATTACH;FMTTYPE=image/jpeg:https://rockwallmensclub.com/wp-content/uploads/2025/06/1167_image_488998144_999168682406507_8606704533134228636_n.jpg
END:VEVENT
BEGIN:VEVENT
DTSTART;TZID=America/Chicago:20250614T080000
DTEND;TZID=America/Chicago:20250614T090000
DTSTAMP:20260419T223703
CREATED:20250603T231955Z
LAST-MODIFIED:20250603T231955Z
UID:1169-1749888000-1749891600@rockwallmensclub.com
SUMMARY:Rockwall County Republican Men's Club Monthly Meeting
DESCRIPTION:Please join us for our monthly Men’s Club meeting. We look forward to seeing you there!
URL:https://rockwallmensclub.com/event/rockwall-county-republican-mens-club-monthly-meeting-12/
LOCATION:The Center\, 108 E Washington St\, Rockwall\, TX\, 75087\, US
ATTACH;FMTTYPE=image/jpeg:https://rockwallmensclub.com/wp-content/uploads/2025/06/1169_image_503733417_1042333564756685_4926288331944515123_n.jpg
END:VEVENT
END:VCALENDAR