BEGIN:VCALENDAR
VERSION:2.0
PRODID:-//Rockwall County Republican Men&rsquo;s Club - ECPv6.15.20//NONSGML v1.0//EN
CALSCALE:GREGORIAN
METHOD:PUBLISH
X-ORIGINAL-URL:https://rockwallmensclub.com
X-WR-CALDESC:Events for Rockwall County Republican Men&rsquo;s Club
REFRESH-INTERVAL;VALUE=DURATION:PT1H
X-Robots-Tag:noindex
X-PUBLISHED-TTL:PT1H
BEGIN:VTIMEZONE
TZID:America/Chicago
BEGIN:DAYLIGHT
TZOFFSETFROM:-0600
TZOFFSETTO:-0500
TZNAME:CDT
DTSTART:20240310T080000
END:DAYLIGHT
BEGIN:STANDARD
TZOFFSETFROM:-0500
TZOFFSETTO:-0600
TZNAME:CST
DTSTART:20241103T070000
END:STANDARD
BEGIN:DAYLIGHT
TZOFFSETFROM:-0600
TZOFFSETTO:-0500
TZNAME:CDT
DTSTART:20250309T080000
END:DAYLIGHT
BEGIN:STANDARD
TZOFFSETFROM:-0500
TZOFFSETTO:-0600
TZNAME:CST
DTSTART:20251102T070000
END:STANDARD
BEGIN:DAYLIGHT
TZOFFSETFROM:-0600
TZOFFSETTO:-0500
TZNAME:CDT
DTSTART:20260308T080000
END:DAYLIGHT
BEGIN:STANDARD
TZOFFSETFROM:-0500
TZOFFSETTO:-0600
TZNAME:CST
DTSTART:20261101T070000
END:STANDARD
END:VTIMEZONE
BEGIN:VEVENT
DTSTART;TZID=America/Chicago:20250412T080000
DTEND;TZID=America/Chicago:20250412T090000
DTSTAMP:20260420T014315
CREATED:20250115T024315Z
LAST-MODIFIED:20250115T024315Z
UID:1131-1744444800-1744448400@rockwallmensclub.com
SUMMARY:Rockwall County Republican Men's Club Monthly Meeting
DESCRIPTION:Please join us for our monthly Men’s Club meeting. Speaker and topic to be announced prior to the date.We look forward to see you there!
URL:https://rockwallmensclub.com/event/rockwall-county-republican-mens-club-monthly-meeting-9/
LOCATION:The Center\, 108 E Washington St\, Rockwall\, TX\, 75087\, US
ATTACH;FMTTYPE=image/jpeg:https://rockwallmensclub.com/wp-content/uploads/2025/01/1131_image_473771637_938605555129487_2057408773932083094_n.jpg
END:VEVENT
END:VCALENDAR