BEGIN:VCALENDAR
VERSION:2.0
PRODID:-//Rockwall County Republican Men&rsquo;s Club - ECPv6.15.20//NONSGML v1.0//EN
CALSCALE:GREGORIAN
METHOD:PUBLISH
X-WR-CALNAME:Rockwall County Republican Men&rsquo;s Club
X-ORIGINAL-URL:https://rockwallmensclub.com
X-WR-CALDESC:Events for Rockwall County Republican Men&rsquo;s Club
REFRESH-INTERVAL;VALUE=DURATION:PT1H
X-Robots-Tag:noindex
X-PUBLISHED-TTL:PT1H
BEGIN:VTIMEZONE
TZID:America/Chicago
BEGIN:DAYLIGHT
TZOFFSETFROM:-0600
TZOFFSETTO:-0500
TZNAME:CDT
DTSTART:20240310T080000
END:DAYLIGHT
BEGIN:STANDARD
TZOFFSETFROM:-0500
TZOFFSETTO:-0600
TZNAME:CST
DTSTART:20241103T070000
END:STANDARD
BEGIN:DAYLIGHT
TZOFFSETFROM:-0600
TZOFFSETTO:-0500
TZNAME:CDT
DTSTART:20250309T080000
END:DAYLIGHT
BEGIN:STANDARD
TZOFFSETFROM:-0500
TZOFFSETTO:-0600
TZNAME:CST
DTSTART:20251102T070000
END:STANDARD
BEGIN:DAYLIGHT
TZOFFSETFROM:-0600
TZOFFSETTO:-0500
TZNAME:CDT
DTSTART:20260308T080000
END:DAYLIGHT
BEGIN:STANDARD
TZOFFSETFROM:-0500
TZOFFSETTO:-0600
TZNAME:CST
DTSTART:20261101T070000
END:STANDARD
END:VTIMEZONE
BEGIN:VEVENT
DTSTART;TZID=America/Chicago:20250306T173000
DTEND;TZID=America/Chicago:20250306T193000
DTSTAMP:20260420T030822
CREATED:20250303T000651Z
LAST-MODIFIED:20250303T000651Z
UID:1158-1741282200-1741289400@rockwallmensclub.com
SUMMARY:Rockwall Republican Men's Club Happy Hour
DESCRIPTION:Join with fellow local conservatives for good discussion and libations at our quarterly happy hour
URL:https://rockwallmensclub.com/event/rockwall-republican-mens-club-happy-hour-2/
LOCATION:Wade’s Landing\, 308 N Fannin Street\, Rockwall\, TX\, 75087\, US
ATTACH;FMTTYPE=image/jpeg:https://rockwallmensclub.com/wp-content/uploads/2025/03/1158_image_481989158_972116571778385_2594587231292746962_n.jpg
END:VEVENT
BEGIN:VEVENT
DTSTART;TZID=America/Chicago:20250308T080000
DTEND;TZID=America/Chicago:20250308T090000
DTSTAMP:20260420T030822
CREATED:20250115T024318Z
LAST-MODIFIED:20250304T203745Z
UID:1135-1741420800-1741424400@rockwallmensclub.com
SUMMARY:Rockwall County Republican Men's Club Monthly Meeting
DESCRIPTION:Please join us for our monthly Men’s Club meeting. As we celebrate Mardi Gras this week\, our speaker is Mike Bayham\, State Representative\, Dist.103 of the Louisiana House of Representatives. \nRep. Bayham was elected to the Louisiana House of Representatives in 2023 with 62% of the vote.Born in New Orleans and residing in St. Bernard Parish\, Bayham passed the most bills of any freshman legislator during the 2024 Regular Legislative Session. \nSome of Bayham’s legislative accomplishments include doubling the minimum jail time for those convicted of sexually abusing minors\, increasing criminal penalties for those who obstruct traffic during an unpermitted protest\, cracking down on speed cameras\, and removing barriers to entry for aspiring entrepreneurs. \nBayham is a lifelong Republican and served as Secretary of the Louisiana Republican Party from 2018 to 2022. \nWe look forward to see you there!
URL:https://rockwallmensclub.com/event/rockwall-county-republican-mens-club-monthly-meeting-11/
LOCATION:The Center\, 108 E Washington St\, Rockwall\, TX\, 75087\, US
ATTACH;FMTTYPE=image/jpeg:https://rockwallmensclub.com/wp-content/uploads/2025/01/1135_image_481244298_973542664969109_8427931200903083236_n.jpg
END:VEVENT
BEGIN:VEVENT
DTSTART;TZID=America/Chicago:20250327T190000
DTEND;TZID=America/Chicago:20250327T190000
DTSTAMP:20260420T030822
CREATED:20241030T191918Z
LAST-MODIFIED:20250218T130058Z
UID:1048-1743102000-1743102000@rockwallmensclub.com
SUMMARY:Rockwall County Republican Men's Club Quarterly Cigar Dinner
DESCRIPTION:Come join us on for our quarterly Men’s Club Cigar Dinner Fundraiser.Tickets are $100\, which will get you a full dinner\, two adult drinks\, and a cigar.Ticket link coming soon!
URL:https://rockwallmensclub.com/event/rockwall-county-republican-mens-club-quarterly-cigar-dinner-2/
LOCATION:Culpepper Cattle Co.\, 309 I-30 E\, Rockwall\, TX\, 75087\, US
ATTACH;FMTTYPE=image/jpeg:https://rockwallmensclub.com/wp-content/uploads/2024/10/1048_image_465034859_886595316997178_5842879922030211679_n.jpg
END:VEVENT
END:VCALENDAR