BEGIN:VCALENDAR
VERSION:2.0
PRODID:-//Rockwall County Republican Men&rsquo;s Club - ECPv6.15.20//NONSGML v1.0//EN
CALSCALE:GREGORIAN
METHOD:PUBLISH
X-WR-CALNAME:Rockwall County Republican Men&rsquo;s Club
X-ORIGINAL-URL:https://rockwallmensclub.com
X-WR-CALDESC:Events for Rockwall County Republican Men&rsquo;s Club
REFRESH-INTERVAL;VALUE=DURATION:PT1H
X-Robots-Tag:noindex
X-PUBLISHED-TTL:PT1H
BEGIN:VTIMEZONE
TZID:America/Chicago
BEGIN:DAYLIGHT
TZOFFSETFROM:-0600
TZOFFSETTO:-0500
TZNAME:CDT
DTSTART:20230312T080000
END:DAYLIGHT
BEGIN:STANDARD
TZOFFSETFROM:-0500
TZOFFSETTO:-0600
TZNAME:CST
DTSTART:20231105T070000
END:STANDARD
BEGIN:DAYLIGHT
TZOFFSETFROM:-0600
TZOFFSETTO:-0500
TZNAME:CDT
DTSTART:20240310T080000
END:DAYLIGHT
BEGIN:STANDARD
TZOFFSETFROM:-0500
TZOFFSETTO:-0600
TZNAME:CST
DTSTART:20241103T070000
END:STANDARD
BEGIN:DAYLIGHT
TZOFFSETFROM:-0600
TZOFFSETTO:-0500
TZNAME:CDT
DTSTART:20250309T080000
END:DAYLIGHT
BEGIN:STANDARD
TZOFFSETFROM:-0500
TZOFFSETTO:-0600
TZNAME:CST
DTSTART:20251102T070000
END:STANDARD
BEGIN:DAYLIGHT
TZOFFSETFROM:-0600
TZOFFSETTO:-0500
TZNAME:CDT
DTSTART:20260308T080000
END:DAYLIGHT
BEGIN:STANDARD
TZOFFSETFROM:-0500
TZOFFSETTO:-0600
TZNAME:CST
DTSTART:20261101T070000
END:STANDARD
END:VTIMEZONE
BEGIN:VEVENT
DTSTART;TZID=America/Chicago:20250614T080000
DTEND;TZID=America/Chicago:20250614T090000
DTSTAMP:20260419T135133
CREATED:20250603T231955Z
LAST-MODIFIED:20250603T231955Z
UID:1169-1749888000-1749891600@rockwallmensclub.com
SUMMARY:Rockwall County Republican Men's Club Monthly Meeting
DESCRIPTION:Please join us for our monthly Men’s Club meeting. We look forward to seeing you there!
URL:https://rockwallmensclub.com/event/rockwall-county-republican-mens-club-monthly-meeting-12/
LOCATION:The Center\, 108 E Washington St\, Rockwall\, TX\, 75087\, US
ATTACH;FMTTYPE=image/jpeg:https://rockwallmensclub.com/wp-content/uploads/2025/06/1169_image_503733417_1042333564756685_4926288331944515123_n.jpg
END:VEVENT
BEGIN:VEVENT
DTSTART;TZID=America/Chicago:20250605T173000
DTEND;TZID=America/Chicago:20250605T193000
DTSTAMP:20260419T135133
CREATED:20250603T231954Z
LAST-MODIFIED:20250603T231954Z
UID:1167-1749144600-1749151800@rockwallmensclub.com
SUMMARY:Rockwall Republican Men's Club Happy Hour
DESCRIPTION:Join with fellow local conservatives for good discussion and libations at our quarterly happy hour
URL:https://rockwallmensclub.com/event/rockwall-republican-mens-club-happy-hour-3/
LOCATION:Wade’s Landing\, 308 N Fannin Street\, Rockwall\, TX\, 75087\, US
ATTACH;FMTTYPE=image/jpeg:https://rockwallmensclub.com/wp-content/uploads/2025/06/1167_image_488998144_999168682406507_8606704533134228636_n.jpg
END:VEVENT
BEGIN:VEVENT
DTSTART;TZID=America/Chicago:20250412T080000
DTEND;TZID=America/Chicago:20250412T090000
DTSTAMP:20260419T135133
CREATED:20250115T024315Z
LAST-MODIFIED:20250115T024315Z
UID:1131-1744444800-1744448400@rockwallmensclub.com
SUMMARY:Rockwall County Republican Men's Club Monthly Meeting
DESCRIPTION:Please join us for our monthly Men’s Club meeting. Speaker and topic to be announced prior to the date.We look forward to see you there!
URL:https://rockwallmensclub.com/event/rockwall-county-republican-mens-club-monthly-meeting-9/
LOCATION:The Center\, 108 E Washington St\, Rockwall\, TX\, 75087\, US
ATTACH;FMTTYPE=image/jpeg:https://rockwallmensclub.com/wp-content/uploads/2025/01/1131_image_473771637_938605555129487_2057408773932083094_n.jpg
END:VEVENT
BEGIN:VEVENT
DTSTART;TZID=America/Chicago:20250327T190000
DTEND;TZID=America/Chicago:20250327T190000
DTSTAMP:20260419T135133
CREATED:20241030T191918Z
LAST-MODIFIED:20250218T130058Z
UID:1048-1743102000-1743102000@rockwallmensclub.com
SUMMARY:Rockwall County Republican Men's Club Quarterly Cigar Dinner
DESCRIPTION:Come join us on for our quarterly Men’s Club Cigar Dinner Fundraiser.Tickets are $100\, which will get you a full dinner\, two adult drinks\, and a cigar.Ticket link coming soon!
URL:https://rockwallmensclub.com/event/rockwall-county-republican-mens-club-quarterly-cigar-dinner-2/
LOCATION:Culpepper Cattle Co.\, 309 I-30 E\, Rockwall\, TX\, 75087\, US
ATTACH;FMTTYPE=image/jpeg:https://rockwallmensclub.com/wp-content/uploads/2024/10/1048_image_465034859_886595316997178_5842879922030211679_n.jpg
END:VEVENT
BEGIN:VEVENT
DTSTART;TZID=America/Chicago:20250308T080000
DTEND;TZID=America/Chicago:20250308T090000
DTSTAMP:20260419T135133
CREATED:20250115T024318Z
LAST-MODIFIED:20250304T203745Z
UID:1135-1741420800-1741424400@rockwallmensclub.com
SUMMARY:Rockwall County Republican Men's Club Monthly Meeting
DESCRIPTION:Please join us for our monthly Men’s Club meeting. As we celebrate Mardi Gras this week\, our speaker is Mike Bayham\, State Representative\, Dist.103 of the Louisiana House of Representatives. \nRep. Bayham was elected to the Louisiana House of Representatives in 2023 with 62% of the vote.Born in New Orleans and residing in St. Bernard Parish\, Bayham passed the most bills of any freshman legislator during the 2024 Regular Legislative Session. \nSome of Bayham’s legislative accomplishments include doubling the minimum jail time for those convicted of sexually abusing minors\, increasing criminal penalties for those who obstruct traffic during an unpermitted protest\, cracking down on speed cameras\, and removing barriers to entry for aspiring entrepreneurs. \nBayham is a lifelong Republican and served as Secretary of the Louisiana Republican Party from 2018 to 2022. \nWe look forward to see you there!
URL:https://rockwallmensclub.com/event/rockwall-county-republican-mens-club-monthly-meeting-11/
LOCATION:The Center\, 108 E Washington St\, Rockwall\, TX\, 75087\, US
ATTACH;FMTTYPE=image/jpeg:https://rockwallmensclub.com/wp-content/uploads/2025/01/1135_image_481244298_973542664969109_8427931200903083236_n.jpg
END:VEVENT
BEGIN:VEVENT
DTSTART;TZID=America/Chicago:20250306T173000
DTEND;TZID=America/Chicago:20250306T193000
DTSTAMP:20260419T135133
CREATED:20250303T000651Z
LAST-MODIFIED:20250303T000651Z
UID:1158-1741282200-1741289400@rockwallmensclub.com
SUMMARY:Rockwall Republican Men's Club Happy Hour
DESCRIPTION:Join with fellow local conservatives for good discussion and libations at our quarterly happy hour
URL:https://rockwallmensclub.com/event/rockwall-republican-mens-club-happy-hour-2/
LOCATION:Wade’s Landing\, 308 N Fannin Street\, Rockwall\, TX\, 75087\, US
ATTACH;FMTTYPE=image/jpeg:https://rockwallmensclub.com/wp-content/uploads/2025/03/1158_image_481989158_972116571778385_2594587231292746962_n.jpg
END:VEVENT
BEGIN:VEVENT
DTSTART;TZID=America/Chicago:20250208T090000
DTEND;TZID=America/Chicago:20250208T090000
DTSTAMP:20260419T135133
CREATED:20250115T024313Z
LAST-MODIFIED:20250115T024313Z
UID:1129-1739005200-1739005200@rockwallmensclub.com
SUMMARY:Day of Service supporting Meals on Wheels
DESCRIPTION:Join us for a day of service with Meals on Wheels!We will depart directly from our meeting around 9 am on February 8th at the The Center in Rockwall to the service projects.Please come ready to work.Projects include replacing windows in a brick home and a mobile home\, ramp repairs (wood)\, mowing\, gutter cleaning\, and general cleanup.PLease click the “ticket” link to sign up below!\nhttps://forms.gle/KwzHZ9RWXMakhPau7
URL:https://rockwallmensclub.com/event/day-of-service-supporting-meals-on-wheels/
LOCATION:The Center\, 108 E Washington St\, Rockwall\, TX\, 75087\, US
ATTACH;FMTTYPE=image/jpeg:https://rockwallmensclub.com/wp-content/uploads/2025/01/1129_image_473565209_938606615129381_5726414993029057520_n.jpg
END:VEVENT
BEGIN:VEVENT
DTSTART;TZID=America/Chicago:20250208T080000
DTEND;TZID=America/Chicago:20250208T090000
DTSTAMP:20260419T135133
CREATED:20250115T024317Z
LAST-MODIFIED:20250204T205030Z
UID:1133-1739001600-1739005200@rockwallmensclub.com
SUMMARY:RPT State Chair Abraham George - Rockwall County Republican Men's Club Monthly Meeting
DESCRIPTION:Please join us for our monthly Men’s Club meeting as we welcome the State Chairman of the Republican Party of Texas\, Abraham George!Plan to stay longer for our day of service! \nAbraham George is a dedicated conservative leader\, and a successful entrepreneur. Born in India\, he immigrated to the U.S. at 16 and became a U.S. citizen in 2001. He has served in multiple leadership roles\, including as the Collin County GOP Chairman\, before being elected Texas GOP Chairman in 2024.Abraham and his wife\, Jeena\, live in Parker\, Texas\, with their two children.
URL:https://rockwallmensclub.com/event/rockwall-county-republican-mens-club-monthly-meeting-10/
LOCATION:The Center\, 108 E Washington St\, Rockwall\, TX\, 75087\, US
ATTACH;FMTTYPE=image/jpeg:https://rockwallmensclub.com/wp-content/uploads/2025/01/1133_image_476557483_953175127005863_3743606199858651982_n.jpg
END:VEVENT
BEGIN:VEVENT
DTSTART;TZID=America/Chicago:20250111T080000
DTEND;TZID=America/Chicago:20250111T090000
DTSTAMP:20260419T135133
CREATED:20250109T172155Z
LAST-MODIFIED:20250109T172155Z
UID:1125-1736582400-1736586000@rockwallmensclub.com
SUMMARY:Faith in Politics Pastoral Panel: Rockwall County Republican Men's Club Monthly Meeting
DESCRIPTION:Join us this Saturday for a Pastoral Panel speaking on the topic of Faith in Politics featuring Kason Huddleston\, Ben Quine\, Ryan Binkley\, and Brandon Burden.
URL:https://rockwallmensclub.com/event/faith-in-politics-pastoral-panel-rockwall-county-republican-mens-club-monthly-meeting/
LOCATION:The Center\, 108 E Washington St\, Rockwall\, TX\, 75087\, US
ATTACH;FMTTYPE=image/jpeg:https://rockwallmensclub.com/wp-content/uploads/2025/01/1125_image_472840579_934997848823591_4108941175141156751_n.jpg
END:VEVENT
BEGIN:VEVENT
DTSTART;TZID=America/Chicago:20241214T080000
DTEND;TZID=America/Chicago:20241214T090000
DTSTAMP:20260419T135133
CREATED:20241030T192033Z
LAST-MODIFIED:20241030T192033Z
UID:1055-1734163200-1734166800@rockwallmensclub.com
SUMMARY:Rockwall County Republican Men's Club Monthly Meeting
DESCRIPTION:Join us for our monthly meeting.Speaker information will be added soon!
URL:https://rockwallmensclub.com/event/rockwall-county-republican-mens-club-monthly-meeting-8/
LOCATION:Harry Myers Community Center\, 815 East Washington Street\, Rockwall\, TX\, 75087\, US
ATTACH;FMTTYPE=image/jpeg:https://rockwallmensclub.com/wp-content/uploads/2024/10/1055_image_465137006_886596183663758_3037121540183929911_n.jpg
END:VEVENT
BEGIN:VEVENT
DTSTART;TZID=America/Chicago:20241205T173000
DTEND;TZID=America/Chicago:20241205T173000
DTSTAMP:20260419T135133
CREATED:20241030T191921Z
LAST-MODIFIED:20250303T000400Z
UID:1051-1733419800-1733419800@rockwallmensclub.com
SUMMARY:Rockwall Republican Men's Club Happy Hour
DESCRIPTION:Join with fellow local conservatives for good discussion and libations at our quarterly happy hour
URL:https://rockwallmensclub.com/event/rockwall-republican-mens-club-happy-hour/
LOCATION:Standard Service
ATTACH;FMTTYPE=image/jpeg:https://rockwallmensclub.com/wp-content/uploads/2024/10/1051_image_465136781_886594006997309_6147568034417159695_n.jpg
END:VEVENT
BEGIN:VEVENT
DTSTART;TZID=America/Chicago:20241109T080000
DTEND;TZID=America/Chicago:20241109T090000
DTSTAMP:20260419T135133
CREATED:20240501T144700Z
LAST-MODIFIED:20241107T133408Z
UID:256-1731139200-1731142800@rockwallmensclub.com
SUMMARY:Rockwall County Republican Men's Club Monthly Meeting
DESCRIPTION:Join us for our monthly meeting.Guest Speakers are Konni Burton and Brad Johnson with the Texan news outlet \nKonnie and Brad will provide an in-depth post-election analysis of the results from Tuesday’s Election. You won’t want to miss this one! \nThe Texan\, a statewide political news organization\, was founded in 2019 by former state Senator Konni Burton and is based in Austin\, Texas. Dedicated to providing readers with fact-based news regarding issues\, policies\, elected officials\, and campaigns\, The Texan is the alternative to the narratives and spin that are so pervasive in news media today. \nKonni Burton is Founder and CEO. Previously\, she was a grassroots activist who worked on numerous campaigns and then was elected in 2014 to serve Texas’ Senate District 10 in the Texas House.  \nBrad Johnson is a senior reporter and managing editor for The Texan and an Ohio native who graduated from the University of Cincinnati in 2017. He covers Texas politics along with a focus on fiscal and energy policy. \nRead Brad’s post-election night story published today. Bloodbath 2024: Texas Republicans Notch Massive Night in Trump Wave. \nWe will also hold our officer elections.See you Saturday!
URL:https://rockwallmensclub.com/event/rockwall-county-republican-mens-club-monthly-meeting-7/
LOCATION:The Center\, 108 E Washington St\, Rockwall\, TX\, 75087\, US
ATTACH;FMTTYPE=image/jpeg:https://rockwallmensclub.com/wp-content/uploads/2024/05/256_image_466007261_892011946455515_6663161145246408828_n.jpg
ORGANIZER;CN="Rockwall County Republican Men's Club":MAILTO:noreply@facebookmail.com
END:VEVENT
BEGIN:VEVENT
DTSTART;TZID=America/Chicago:20241012T080000
DTEND;TZID=America/Chicago:20241012T090000
DTSTAMP:20260419T135133
CREATED:20240501T144700Z
LAST-MODIFIED:20240501T170818Z
UID:255-1728720000-1728723600@rockwallmensclub.com
SUMMARY:Rockwall County Republican Men's Club Monthly Meeting
DESCRIPTION:Join us for our monthly meeting.  Speaker information will be added soon!
URL:https://rockwallmensclub.com/event/rockwall-county-republican-mens-club-monthly-meeting-6/
LOCATION:The Center\, 108 E Washington St\, Rockwall\, TX\, 75087\, US
ATTACH;FMTTYPE=image/jpeg:https://rockwallmensclub.com/wp-content/uploads/2024/05/255_image_440904371_768380762151968_1329304745207404827_n.jpg
ORGANIZER;CN="Rockwall County Republican Men's Club":MAILTO:noreply@facebookmail.com
END:VEVENT
BEGIN:VEVENT
DTSTART;TZID=America/Chicago:20240926T190000
DTEND;TZID=America/Chicago:20240926T190000
DTSTAMP:20260419T135133
CREATED:20240910T132042Z
LAST-MODIFIED:20240910T132042Z
UID:829-1727377200-1727377200@rockwallmensclub.com
SUMMARY:Men's Club Cigar Dinner Fundraiser
DESCRIPTION:Dear Club Members and Friends\, \nCome join us on  Thursday September 26\, 2024\, at 7:00 p.m. for Our Quarterly Men’s Club Cigar Dinner Fundraiser.\nSponsored by Buildometry \nTickets are $100 which includes a full dinner\, two adult drinks\, and a cigar. \nLocation is: The Northside Rockwall Event Center\, 190 Shenandoah Lane\, Rockwall\, TX 75087 \nRegister and pay $100 through the ticket link \nIncluded with your registration:\nFull dinner\nTwo adult drinks.\nAnd a top shelf cigar! \nWe will also be taking payments on the day of the event.  For any questions about the event\, please contact Club Secretary Casey Campbell via email casey@caseyccampbell.com
URL:https://rockwallmensclub.com/event/mens-club-cigar-dinner-fundraiser/
LOCATION:The Northside\, 190 Shenandoah Lane\, Rockwall\, TX\, 75087\, US
ATTACH;FMTTYPE=image/jpeg:https://rockwallmensclub.com/wp-content/uploads/2024/09/829_image_459170866_849997997323577_3919480638999878116_n.jpg
END:VEVENT
BEGIN:VEVENT
DTSTART;TZID=America/Chicago:20240914T080000
DTEND;TZID=America/Chicago:20240914T090000
DTSTAMP:20260419T135133
CREATED:20240501T144659Z
LAST-MODIFIED:20240912T163526Z
UID:254-1726300800-1726304400@rockwallmensclub.com
SUMMARY:Judge J.J. Koch - Rockwall County Republican Men's Club Monthly Meeting
DESCRIPTION:Please join us Saturday\, September 14th for our monthly Men’s Club meeting\, where we will host Republican Nominee for Chief Justice of the 5th Court of Appeals\, Judge J.J. Koch. \nJudge Koch\, along with a slate of strong GOP Nominees are working to turn this court back to a Republican majority with victories in the November General Election!
URL:https://rockwallmensclub.com/event/rockwall-county-republican-mens-club-monthly-meeting-5/
LOCATION:The Center\, 108 E Washington St\, Rockwall\, TX\, 75087\, US
ATTACH;FMTTYPE=image/jpeg:https://rockwallmensclub.com/wp-content/uploads/2024/05/254_image_459614730_851389723851071_2982870510784207723_n.jpg
ORGANIZER;CN="Rockwall County Republican Men's Club":MAILTO:noreply@facebookmail.com
END:VEVENT
BEGIN:VEVENT
DTSTART;TZID=America/Chicago:20240810T080000
DTEND;TZID=America/Chicago:20240810T090000
DTSTAMP:20260419T135133
CREATED:20240501T144659Z
LAST-MODIFIED:20240806T161901Z
UID:253-1723276800-1723280400@rockwallmensclub.com
SUMMARY:Texas School Choice Debate - Rockwall County Republican Men's Club Monthly Meeting
DESCRIPTION:Join us for our monthly meeting.  Lincoln-Douglas Style Debate \n“School Choice Policies are Necessary for Texas” \nArguing the affirmative:  Andrew Greenberg\nArguing the negative:  Scott Milder
URL:https://rockwallmensclub.com/event/rockwall-county-republican-mens-club-monthly-meeting-4/
LOCATION:The Center\, 108 E Washington St\, Rockwall\, TX\, 75087\, US
ATTACH;FMTTYPE=image/jpeg:https://rockwallmensclub.com/wp-content/uploads/2024/05/253_image_454340094_827535939569783_6727714142093702135_n.jpg
ORGANIZER;CN="Rockwall County Republican Men's Club":MAILTO:noreply@facebookmail.com
END:VEVENT
BEGIN:VEVENT
DTSTART;TZID=America/Chicago:20240713T080000
DTEND;TZID=America/Chicago:20240713T090000
DTSTAMP:20260419T135133
CREATED:20240501T144659Z
LAST-MODIFIED:20240710T112120Z
UID:252-1720857600-1720861200@rockwallmensclub.com
SUMMARY:Rockwall County Republican Men's Club Monthly Meeting - Convention of States
DESCRIPTION:Join us for our monthly meeting.  Erika Hatfield\, Texas Director for the Convention of States and local Heath resident is our speaker.  \n“Wrangling in the Feds: \nOpen borders\, reckless spending\, abuse and overreach. The federal government is out of control. Thankfully\, the founders gave us a solution:\nARTICLE V OF THE US CONSTITUTION\nJoin the Republican Men’s Club as they invite speaker Erika Hatfield\, State Director for Convention of States\, to learn more about an Article V Convention that can solve our country’s greatest problems.\nWrangling in the Feds and Reclaiming Liberty
URL:https://rockwallmensclub.com/event/rockwall-county-republican-mens-club-monthly-meeting-3/
LOCATION:The Center\, 108 E Washington St\, Rockwall\, TX\, 75087\, US
ATTACH;FMTTYPE=image/jpeg:https://rockwallmensclub.com/wp-content/uploads/2024/05/252_image_449980012_808418648148179_6198405161315095013_n.jpg
ORGANIZER;CN="Rockwall County Republican Men's Club":MAILTO:noreply@facebookmail.com
END:VEVENT
BEGIN:VEVENT
DTSTART;TZID=America/Chicago:20240627T190000
DTEND;TZID=America/Chicago:20240627T190000
DTSTAMP:20260419T135133
CREATED:20240501T162126Z
LAST-MODIFIED:20240501T170827Z
UID:273-1719514800-1719514800@rockwallmensclub.com
SUMMARY:Rockwall County Republican Men's Club Quarterly Cigar Dinner
DESCRIPTION:Come join us on for our second Men’s Club Cigar Dinner Fundraiser.  Tickets are $100\, which will get you a full dinner\, two adult drinks\, and a cigar.  Ticket / donation link coming soon!
URL:https://rockwallmensclub.com/event/rockwall-county-republican-mens-club-quarterly-cigar-dinner/
LOCATION:The Northside\, 190 Shenandoah Lane\, Rockwall\, TX\, 75087\, US
ATTACH;FMTTYPE=image/jpeg:https://rockwallmensclub.com/wp-content/uploads/2024/05/273_image_440876103_768369685486409_3629010248576503583_n.jpg
END:VEVENT
BEGIN:VEVENT
DTSTART;TZID=America/Chicago:20240608T080000
DTEND;TZID=America/Chicago:20240608T090000
DTSTAMP:20260419T135133
CREATED:20240501T144659Z
LAST-MODIFIED:20240605T145919Z
UID:251-1717833600-1717837200@rockwallmensclub.com
SUMMARY:Rockwall County Republican Men's Club Monthly Meeting - Mayor Forum
DESCRIPTION:Join us for our monthly meeting.  This month we have an awesome panel of 5 Rockwall County mayors.  Also\, in addition to donuts\, for a donation we are having homemade biscuits and gravy\, sausage\, and breakfast casseroles.  Click the ticket link below to donate in advance or feel free to contribute at the meeting.
URL:https://rockwallmensclub.com/event/rockwall-county-republican-mens-club-monthly-meeting-2/
LOCATION:The Center\, 108 E Washington St\, Rockwall\, TX\, 75087\, US
ATTACH;FMTTYPE=image/jpeg:https://rockwallmensclub.com/wp-content/uploads/2024/05/251_image_447029114_786618703661507_992012926148315090_n.jpg
ORGANIZER;CN="Rockwall County Republican Men's Club":MAILTO:noreply@facebookmail.com
END:VEVENT
BEGIN:VEVENT
DTSTART;TZID=America/Chicago:20240511T080000
DTEND;TZID=America/Chicago:20240511T090000
DTSTAMP:20260419T135133
CREATED:20240501T135933Z
LAST-MODIFIED:20240501T170831Z
UID:230-1715414400-1715418000@rockwallmensclub.com
SUMMARY:Rockwall County Republican Men's Club Monthly Meeting
DESCRIPTION:Join us for our monthly meeting.  Our May speaker is Justice David J. Schenck.   \nSince graduating first in his class at Baylor Law School\, Justice David J. Schenck has built a reputation of integrity and independence throughout his expansive three-decade career as a tough but fair legal mind who calls them like he sees them\, free of bias or outside influence. He led the Texas State Commission on Judicial Conduct\, the Constitutional body that oversees the behavior of all judges in Texas.  \nA strict\, conservative constructionist\, he is an ethical\, principled stalwart who is applauded for standing up against cronyism and any form of the “pay for play” politics that are far too common today. He has served the Constitution as an advocate for recognition of the Second Amendment in the first federal appellate case (Emerson) over Texas  ever to so hold\, and again as lead counsel to Texas State  Rifle Associatiom and 42 other state associations before the U.S. Supreme Court in the landmark Heller case He stood up for religious liberty as pro bono counsel to First Liberty\, the Cato Institute and the Christian Legal Society in multiple cases in the U.S. Supreme Court and in the lower courts.   \nAppointed to the Fifth District Court of Appeals by Governor Rick Perry in 2015\, Justice Schenck was elected to a full term in the largest appellate district in the state in 2016 demonstrating his ability to succeed in a tough election and ro lead major battles over upholding the Constitution while on the bench (google “Justice Schenck does not pull punches”). Prior to that\, his career spanned the full scope of legal experience\, from private practice to public service at the highest levels of state government. \nKnown and respected for both his legal expertise and his leadership\, Judge Schenck oversaw key practices ranging from litigation to appeals for private law firms. In 2010\, he joined the Office of Attorney General Greg Abbott\, serving as Deputy Attorney General for Legal Counsel — functioning  as chief legal counsel to the AG and leading the team defending the state’s redistricting plans until 2012. \nJustice Schenck has received the highest-possible “AV” rating from Martindale Hubbell\, reserved for attorneys who have reached the highest levels of professional excellence\, skill\, and integrity. His pro bono work promoting access to legal services for the poor also earned him the State Bar of Texas President’s Award\, the organization’s highest honor. \nJustice Schenck has previously served on the adjunct faculty of the Southern Methodist University School of Law and the University of North Texas College of Law. He is board certified in appellate law (civil)\, a member of the American Law Institute\, and a Master of the Bench of the Patrick Higginbotham Inn of Court\, and repeatedly included in various “best’ and “Super lawyers”’ lists.  He served also as Chairman of the Texas State Commission on Judicial Conduct\, the body responsible for oversight of the State Judiciary.  Over the years\, he has made his positions on judicial integrity\, competence and the need for reforms to promote public confidence well known including his 2022 race for the Texas Supreme  \nHis track record leaves no doubt about his commitment to the Constitution\, the rule of law\, and the right of all Texans to an honest\, competent\, and impartial judiciary. As the TLR Advocate recently summarized\, he “is a skilled and competent judge with over 25 years in private practice and government service”. “Republican Justice David Schenck is arguably the most qualified Justice who’s ever sat on the 5th Court of Appeals” (Texas Lawyer\, 2015) \nJustice Schenck has been tested and proven that he does not bow to pressure or yield to efforts to compromise his oath. Even a cursory review of his opinions confirms his commitment to all the people of Texas. As the Texas Civil Justice League recently observed “Justice Schenck does not pull punches” where the rights of Texans to independent and impartial justice are concerned. \n‘Justice Schenck is a Christian\, a member of the Highland Park Methodist Church\, husband and father of two children who attend Dallas public schools.
URL:https://rockwallmensclub.com/event/rockwall-county-republican-mens-club-monthly-meeting/
LOCATION:The Center\, 108 E Washington St\, Rockwall\, TX\, 75087\, US
ATTACH;FMTTYPE=image/jpeg:https://rockwallmensclub.com/wp-content/uploads/2024/05/230_image_441042319_768310322159012_2563594479453206992_n.jpg
ORGANIZER;CN="Rockwall County Republican Men's Club":MAILTO:noreply@facebookmail.com
END:VEVENT
END:VCALENDAR